BEGIN:VCALENDAR
VERSION:2.0
PRODID:-// - ECPv6.15.20//NONSGML v1.0//EN
CALSCALE:GREGORIAN
METHOD:PUBLISH
X-ORIGINAL-URL:https://idahoarea18aa.org
X-WR-CALDESC:Events for 
REFRESH-INTERVAL;VALUE=DURATION:PT1H
X-Robots-Tag:noindex
X-PUBLISHED-TTL:PT1H
BEGIN:VTIMEZONE
TZID:America/Boise
BEGIN:DAYLIGHT
TZOFFSETFROM:-0700
TZOFFSETTO:-0600
TZNAME:MDT
DTSTART:20240310T090000
END:DAYLIGHT
BEGIN:STANDARD
TZOFFSETFROM:-0600
TZOFFSETTO:-0700
TZNAME:MST
DTSTART:20241103T080000
END:STANDARD
BEGIN:DAYLIGHT
TZOFFSETFROM:-0700
TZOFFSETTO:-0600
TZNAME:MDT
DTSTART:20250309T090000
END:DAYLIGHT
BEGIN:STANDARD
TZOFFSETFROM:-0600
TZOFFSETTO:-0700
TZNAME:MST
DTSTART:20251102T080000
END:STANDARD
BEGIN:DAYLIGHT
TZOFFSETFROM:-0700
TZOFFSETTO:-0600
TZNAME:MDT
DTSTART:20260308T090000
END:DAYLIGHT
BEGIN:STANDARD
TZOFFSETFROM:-0600
TZOFFSETTO:-0700
TZNAME:MST
DTSTART:20261101T080000
END:STANDARD
END:VTIMEZONE
BEGIN:VEVENT
DTSTART;TZID=America/Boise:20251206T170000
DTEND;TZID=America/Boise:20251206T190000
DTSTAMP:20260422T223623
CREATED:20251104T234236Z
LAST-MODIFIED:20251104T234236Z
UID:18281-1765040400-1765047600@idahoarea18aa.org
SUMMARY:Speaker Meeting and Monthly Potluck
DESCRIPTION:
URL:https://idahoarea18aa.org/event/speaker-meeting-and-monthly-potluck/
LOCATION:Caldwell Church of Christ\, 4012 S. 10th Ave\, Caldwell\, ID\, 83605\, United States
END:VEVENT
BEGIN:VEVENT
DTSTART;TZID=America/Boise:20251213T170000
DTEND;TZID=America/Boise:20251213T200000
DTSTAMP:20260422T223623
CREATED:20251107T193143Z
LAST-MODIFIED:20251107T193143Z
UID:18288-1765645200-1765656000@idahoarea18aa.org
SUMMARY:Magic Valley Recovery Annual Christmas Party
DESCRIPTION:
URL:https://idahoarea18aa.org/event/magic-valley-recovery-annual-christmas-party/
LOCATION:Filer Intermediate School\, 833 6th Street\, Filer\, ID\, 83328
END:VEVENT
BEGIN:VEVENT
DTSTART;TZID=America/Boise:20251220T170000
DTEND;TZID=America/Boise:20251220T203000
DTSTAMP:20260422T223623
CREATED:20251212T174035Z
LAST-MODIFIED:20251212T174035Z
UID:18332-1766250000-1766262600@idahoarea18aa.org
SUMMARY:Upper Valley Christmas Party
DESCRIPTION:
URL:https://idahoarea18aa.org/event/upper-valley-christmas-party/
LOCATION:Rexburg Friendship Club\, 359 S 5th W\, Rexburg\, ID\, 83440\, United States
END:VEVENT
BEGIN:VEVENT
DTSTART;TZID=America/Boise:20251231T180000
DTEND;TZID=America/Boise:20251231T220000
DTSTAMP:20260422T223623
CREATED:20250819T203407Z
LAST-MODIFIED:20250819T203407Z
UID:18091-1767204000-1767218400@idahoarea18aa.org
SUMMARY:Midtown's 3rd Annual New Year's Eve Party
DESCRIPTION:
URL:https://idahoarea18aa.org/event/midtowns-3rd-annual-new-years-eve-party/
LOCATION:River Valley Church\, 1115 N Garden St\, Boise\, ID\, 83706\, United States
END:VEVENT
END:VCALENDAR