BEGIN:VCALENDAR
VERSION:2.0
PRODID:-// - ECPv6.15.20//NONSGML v1.0//EN
CALSCALE:GREGORIAN
METHOD:PUBLISH
X-ORIGINAL-URL:https://idahoarea18aa.org
X-WR-CALDESC:Events for 
REFRESH-INTERVAL;VALUE=DURATION:PT1H
X-Robots-Tag:noindex
X-PUBLISHED-TTL:PT1H
BEGIN:VTIMEZONE
TZID:America/Boise
BEGIN:DAYLIGHT
TZOFFSETFROM:-0700
TZOFFSETTO:-0600
TZNAME:MDT
DTSTART:20240310T090000
END:DAYLIGHT
BEGIN:STANDARD
TZOFFSETFROM:-0600
TZOFFSETTO:-0700
TZNAME:MST
DTSTART:20241103T080000
END:STANDARD
BEGIN:DAYLIGHT
TZOFFSETFROM:-0700
TZOFFSETTO:-0600
TZNAME:MDT
DTSTART:20250309T090000
END:DAYLIGHT
BEGIN:STANDARD
TZOFFSETFROM:-0600
TZOFFSETTO:-0700
TZNAME:MST
DTSTART:20251102T080000
END:STANDARD
BEGIN:DAYLIGHT
TZOFFSETFROM:-0700
TZOFFSETTO:-0600
TZNAME:MDT
DTSTART:20260308T090000
END:DAYLIGHT
BEGIN:STANDARD
TZOFFSETFROM:-0600
TZOFFSETTO:-0700
TZNAME:MST
DTSTART:20261101T080000
END:STANDARD
END:VTIMEZONE
BEGIN:VEVENT
DTSTART;TZID=America/Boise:20251101T170000
DTEND;TZID=America/Boise:20251101T190000
DTSTAMP:20260423T000404
CREATED:20251014T145217Z
LAST-MODIFIED:20251014T145217Z
UID:18239-1762016400-1762023600@idahoarea18aa.org
SUMMARY:Monthly Speaker Meeting and Potluck
DESCRIPTION:
URL:https://idahoarea18aa.org/event/monthly-speaker-meeting-and-potluck/
LOCATION:Caldwell Church of Christ\, 4012 S. 10th Ave\, Caldwell\, ID\, 83605\, United States
END:VEVENT
BEGIN:VEVENT
DTSTART;TZID=America/Boise:20251108T170000
DTEND;TZID=America/Boise:20251108T210000
DTSTAMP:20260423T000404
CREATED:20250916T194947Z
LAST-MODIFIED:20250917T170725Z
UID:18176-1762621200-1762635600@idahoarea18aa.org
SUMMARY:2025 Gratitude Dinner
DESCRIPTION:
URL:https://idahoarea18aa.org/event/2025-gratitude-dinner/
LOCATION:Boise Hilton Garden Inn\, 7699 West Spectrum St.\, BOise\, ID\, 83709\, United States
END:VEVENT
BEGIN:VEVENT
DTSTART;TZID=America/Boise:20251108T180000
DTEND;TZID=America/Boise:20251108T200000
DTSTAMP:20260423T000404
CREATED:20251022T160211Z
LAST-MODIFIED:20251022T160211Z
UID:18249-1762624800-1762632000@idahoarea18aa.org
SUMMARY:District 4 November Birthday Dinner
DESCRIPTION:
URL:https://idahoarea18aa.org/event/district-4-november-birthday-dinner/
LOCATION:First Christian Church – Nampa\, 619 12th Avenue\, South\, Nampa\, ID\, 83651\, United States
END:VEVENT
BEGIN:VEVENT
DTSTART;TZID=America/Boise:20251115T120000
DTEND;TZID=America/Boise:20251115T160000
DTSTAMP:20260423T000404
CREATED:20250917T181448Z
LAST-MODIFIED:20250917T181448Z
UID:18182-1763208000-1763222400@idahoarea18aa.org
SUMMARY:District 10 Fall Harvest Festival
DESCRIPTION:
URL:https://idahoarea18aa.org/event/district-10-fall-harvest-festival/
LOCATION:Gooding Basque Center\, 285 Euskadi Ln\, Gooding\, Idaho\, 83330\, United States
END:VEVENT
BEGIN:VEVENT
DTSTART;TZID=America/Boise:20251121T180000
DTEND;TZID=America/Boise:20251121T203000
DTSTAMP:20260423T000404
CREATED:20251116T210030Z
LAST-MODIFIED:20251116T210030Z
UID:18301-1763748000-1763757000@idahoarea18aa.org
SUMMARY:Sunlit Beaches Women's Meeting FRIENDSGIVING POTLUCK & SPEAKER
DESCRIPTION:
URL:https://idahoarea18aa.org/event/sunlit-beaches-womens-meeting-friendsgiving-potluck-speaker/
LOCATION:First Presbyterian Church Boise\, 950 W State Street\, Boise\, ID\, 83702
END:VEVENT
BEGIN:VEVENT
DTSTART;VALUE=DATE:20251127
DTEND;VALUE=DATE:20251128
DTSTAMP:20260423T000404
CREATED:20251016T164018Z
LAST-MODIFIED:20251016T164018Z
UID:18243-1764201600-1764287999@idahoarea18aa.org
SUMMARY:Thanksgiving Day Alcothon Meeting
DESCRIPTION:
URL:https://idahoarea18aa.org/event/thanksgiving-day-alcothon-meeting/
LOCATION:The Fellowship Hall\, 229 W Franklin Road\, Meridian\, ID\, 83642\, United States
END:VEVENT
END:VCALENDAR