BEGIN:VCALENDAR
VERSION:2.0
PRODID:-// - ECPv6.15.20//NONSGML v1.0//EN
CALSCALE:GREGORIAN
METHOD:PUBLISH
X-ORIGINAL-URL:https://idahoarea18aa.org
X-WR-CALDESC:Events for 
REFRESH-INTERVAL;VALUE=DURATION:PT1H
X-Robots-Tag:noindex
X-PUBLISHED-TTL:PT1H
BEGIN:VTIMEZONE
TZID:America/Boise
BEGIN:DAYLIGHT
TZOFFSETFROM:-0700
TZOFFSETTO:-0600
TZNAME:MDT
DTSTART:20240310T090000
END:DAYLIGHT
BEGIN:STANDARD
TZOFFSETFROM:-0600
TZOFFSETTO:-0700
TZNAME:MST
DTSTART:20241103T080000
END:STANDARD
BEGIN:DAYLIGHT
TZOFFSETFROM:-0700
TZOFFSETTO:-0600
TZNAME:MDT
DTSTART:20250309T090000
END:DAYLIGHT
BEGIN:STANDARD
TZOFFSETFROM:-0600
TZOFFSETTO:-0700
TZNAME:MST
DTSTART:20251102T080000
END:STANDARD
BEGIN:DAYLIGHT
TZOFFSETFROM:-0700
TZOFFSETTO:-0600
TZNAME:MDT
DTSTART:20260308T090000
END:DAYLIGHT
BEGIN:STANDARD
TZOFFSETFROM:-0600
TZOFFSETTO:-0700
TZNAME:MST
DTSTART:20261101T080000
END:STANDARD
END:VTIMEZONE
BEGIN:VEVENT
DTSTART;VALUE=DATE:20250905
DTEND;VALUE=DATE:20250908
DTSTAMP:20260423T022343
CREATED:20250517T221520Z
LAST-MODIFIED:20250517T221701Z
UID:17862-1757030400-1757289599@idahoarea18aa.org
SUMMARY:Lava Hot Springs Men's Spiritual Retreat
DESCRIPTION:
URL:https://idahoarea18aa.org/event/lava-hot-springs-mens-spiritual-retreat/
LOCATION:The Lava Hotel Conference Center\, 196 E Main St\, Lava Hot Springs\, ID\, 83246\, United States
END:VEVENT
BEGIN:VEVENT
DTSTART;TZID=America/Boise:20250906T120000
DTEND;TZID=America/Boise:20250906T160000
DTSTAMP:20260423T022343
CREATED:20250819T201957Z
LAST-MODIFIED:20250819T201957Z
UID:18088-1757160000-1757174400@idahoarea18aa.org
SUMMARY:Sausage Fest at Beaver Dick Park
DESCRIPTION:
URL:https://idahoarea18aa.org/event/sausage-fest-at-beaver-dick-park/
LOCATION:Beaver Dick Park\, Highway 33 and 6000 West\, Rexburg\, Idaho\, 83440
END:VEVENT
BEGIN:VEVENT
DTSTART;TZID=America/Boise:20250906T170000
DTEND;TZID=America/Boise:20250906T180000
DTSTAMP:20260423T022343
CREATED:20250807T223014Z
LAST-MODIFIED:20250807T223014Z
UID:18007-1757178000-1757181600@idahoarea18aa.org
SUMMARY:On the Rocks Dinner and a Speaker
DESCRIPTION:
URL:https://idahoarea18aa.org/event/on-the-rocks-dinner-and-a-speaker/
LOCATION:Caldwell Church of Christ\, 4012 S. 10th Ave\, Caldwell\, ID\, 83605\, United States
END:VEVENT
BEGIN:VEVENT
DTSTART;TZID=America/Boise:20250913T100000
DTEND;TZID=America/Boise:20250913T140000
DTSTAMP:20260423T022343
CREATED:20250807T222141Z
LAST-MODIFIED:20250807T223131Z
UID:18003-1757757600-1757772000@idahoarea18aa.org
SUMMARY:End of Summer BBQ Extravaganza
DESCRIPTION:
URL:https://idahoarea18aa.org/event/end-of-summer-bbq-extravaganza/
LOCATION:Middleton Place Park\, 75 Marjorie Avenue\, Middleton\, ID\, United States
END:VEVENT
BEGIN:VEVENT
DTSTART;TZID=America/Boise:20250913T180000
DTEND;TZID=America/Boise:20250913T200000
DTSTAMP:20260423T022343
CREATED:20250827T180955Z
LAST-MODIFIED:20250828T180143Z
UID:18156-1757786400-1757793600@idahoarea18aa.org
SUMMARY:District 4 Birthday Dinner
DESCRIPTION:
URL:https://idahoarea18aa.org/event/district-4-birthday-dinner/
LOCATION:First Christian Church – Nampa\, 619 12th Avenue\, South\, Nampa\, ID\, 83651\, United States
END:VEVENT
BEGIN:VEVENT
DTSTART;TZID=America/Boise:20250920T153000
DTEND;TZID=America/Boise:20250920T210000
DTSTAMP:20260423T022343
CREATED:20250814T170755Z
LAST-MODIFIED:20250814T170838Z
UID:18078-1758382200-1758402000@idahoarea18aa.org
SUMMARY:Primary Purpose Bonfire Meeting
DESCRIPTION:
URL:https://idahoarea18aa.org/event/primary-purpose-bonfire-meetinf/
LOCATION:Curtis Park Caldwell\, 14281 Channel Road\, Caldwell\, Idaho\, 83605
END:VEVENT
BEGIN:VEVENT
DTSTART;TZID=America/Boise:20250925T183000
DTEND;TZID=America/Boise:20250925T203000
DTSTAMP:20260423T022343
CREATED:20250912T170421Z
LAST-MODIFIED:20250916T194207Z
UID:18171-1758825000-1758832200@idahoarea18aa.org
SUMMARY:Rule 62's Speaker & Potluck
DESCRIPTION:
URL:https://idahoarea18aa.org/event/rule-62s-speaker-potluck/
LOCATION:New Creations Church\, 3 W Concord St\, Middleton\, ID\, 83644\, United States
END:VEVENT
BEGIN:VEVENT
DTSTART;TZID=America/Boise:20250927T120000
DTEND;TZID=America/Boise:20250927T140000
DTSTAMP:20260423T022343
CREATED:20250819T215155Z
LAST-MODIFIED:20250819T222304Z
UID:18095-1758974400-1758981600@idahoarea18aa.org
SUMMARY:What the Heck is a GSR?
DESCRIPTION:
URL:https://idahoarea18aa.org/event/what-the-heck-is-a-gsr/
LOCATION:Magic Valley Fellowship Hall\, 801 2nd Ave N\, Twin Falls\, ID\, 83301\, United States
END:VEVENT
BEGIN:VEVENT
DTSTART;TZID=America/Boise:20250927T180000
DTEND;TZID=America/Boise:20250927T210000
DTSTAMP:20260423T022343
CREATED:20250826T004412Z
LAST-MODIFIED:20250826T004412Z
UID:18150-1758996000-1759006800@idahoarea18aa.org
SUMMARY:2025 Talent Show
DESCRIPTION:
URL:https://idahoarea18aa.org/event/2025-talent-show/
LOCATION:Alano Club\, 3820 Cassia St\, Boise\, ID\, 83705\, United States
END:VEVENT
END:VCALENDAR