BEGIN:VCALENDAR
VERSION:2.0
PRODID:-// - ECPv6.15.20//NONSGML v1.0//EN
CALSCALE:GREGORIAN
METHOD:PUBLISH
X-ORIGINAL-URL:https://idahoarea18aa.org
X-WR-CALDESC:Events for 
REFRESH-INTERVAL;VALUE=DURATION:PT1H
X-Robots-Tag:noindex
X-PUBLISHED-TTL:PT1H
BEGIN:VTIMEZONE
TZID:America/Boise
BEGIN:DAYLIGHT
TZOFFSETFROM:-0700
TZOFFSETTO:-0600
TZNAME:MDT
DTSTART:20240310T090000
END:DAYLIGHT
BEGIN:STANDARD
TZOFFSETFROM:-0600
TZOFFSETTO:-0700
TZNAME:MST
DTSTART:20241103T080000
END:STANDARD
BEGIN:DAYLIGHT
TZOFFSETFROM:-0700
TZOFFSETTO:-0600
TZNAME:MDT
DTSTART:20250309T090000
END:DAYLIGHT
BEGIN:STANDARD
TZOFFSETFROM:-0600
TZOFFSETTO:-0700
TZNAME:MST
DTSTART:20251102T080000
END:STANDARD
BEGIN:DAYLIGHT
TZOFFSETFROM:-0700
TZOFFSETTO:-0600
TZNAME:MDT
DTSTART:20260308T090000
END:DAYLIGHT
BEGIN:STANDARD
TZOFFSETFROM:-0600
TZOFFSETTO:-0700
TZNAME:MST
DTSTART:20261101T080000
END:STANDARD
END:VTIMEZONE
BEGIN:VEVENT
DTSTART;TZID=America/Boise:20250802T170000
DTEND;TZID=America/Boise:20250802T190000
DTSTAMP:20260423T033209
CREATED:20250715T185942Z
LAST-MODIFIED:20250715T185942Z
UID:17947-1754154000-1754161200@idahoarea18aa.org
SUMMARY:Speaker Meeting/Dinner
DESCRIPTION:
URL:https://idahoarea18aa.org/event/speaker-meeting-dinner/
LOCATION:Caldwell Church of Christ\, 4012 S. 10th Ave\, Caldwell\, ID\, 83605\, United States
END:VEVENT
BEGIN:VEVENT
DTSTART;TZID=America/Boise:20250803T133000
DTEND;TZID=America/Boise:20250803T180000
DTSTAMP:20260423T033209
CREATED:20250707T193207Z
LAST-MODIFIED:20250707T193207Z
UID:17936-1754227800-1754244000@idahoarea18aa.org
SUMMARY:Boise River Float and BBQ
DESCRIPTION:Old Timers Shelter\, Boise and Barber Park\, Boise
URL:https://idahoarea18aa.org/event/boise-river-float-and-bbq/
LOCATION:Ann Morrison Park\, 1000 S. Americana Blvd\, Boise\, ID\, 837000\, United States
END:VEVENT
BEGIN:VEVENT
DTSTART;VALUE=DATE:20250807
DTEND;VALUE=DATE:20250811
DTSTAMP:20260423T033209
CREATED:20250514T165354Z
LAST-MODIFIED:20250514T165640Z
UID:17851-1754524800-1754870399@idahoarea18aa.org
SUMMARY:Annual District 10 AA Campout
DESCRIPTION:Loop #2
URL:https://idahoarea18aa.org/event/annual-district-10-aa-campout/
LOCATION:Elks Flats Campground\, Boise National Forest\, Pine\, ID\, 83647\, United States
END:VEVENT
BEGIN:VEVENT
DTSTART;VALUE=DATE:20250808
DTEND;VALUE=DATE:20250811
DTSTAMP:20260423T033209
CREATED:20250804T160640Z
LAST-MODIFIED:20250804T160640Z
UID:18000-1754611200-1754870399@idahoarea18aa.org
SUMMARY:Teton Canyon Campout
DESCRIPTION:
URL:https://idahoarea18aa.org/event/teton-canyon-campout-2/
LOCATION:Reunion Flats Campground in Teton Canyon\, Alta\, WY\, 83455\, United States
END:VEVENT
BEGIN:VEVENT
DTSTART;TZID=America/Boise:20250808T080000
DTEND;TZID=America/Boise:20250810T170000
DTSTAMP:20260423T033209
CREATED:20250330T233357Z
LAST-MODIFIED:20250330T233357Z
UID:17783-1754640000-1754845200@idahoarea18aa.org
SUMMARY:Gem State Roundup 2025
DESCRIPTION:
URL:https://idahoarea18aa.org/event/gem-state-roundup-2025/
LOCATION:Caldwell Elks Lodge\, 1015 N. Kimball Ave\, Caldwell\, ID\, 83605\, United States
END:VEVENT
BEGIN:VEVENT
DTSTART;TZID=America/Boise:20250809T180000
DTEND;TZID=America/Boise:20250809T200000
DTSTAMP:20260423T033209
CREATED:20250722T170234Z
LAST-MODIFIED:20250722T170234Z
UID:17973-1754762400-1754769600@idahoarea18aa.org
SUMMARY:Area 18\, District 4 Birthday Dinner
DESCRIPTION:
URL:https://idahoarea18aa.org/event/area-18-district-4-birthday-dinner-2/
LOCATION:First Christian Church – Nampa\, 619 12th Avenue\, South\, Nampa\, ID\, 83651\, United States
END:VEVENT
BEGIN:VEVENT
DTSTART;TZID=America/Boise:20250816T120000
DTEND;TZID=America/Boise:20250816T160000
DTSTAMP:20260423T033209
CREATED:20250407T162953Z
LAST-MODIFIED:20250407T162953Z
UID:17795-1755345600-1755360000@idahoarea18aa.org
SUMMARY:South Central Idaho H&I Awareness Picnic
DESCRIPTION:
URL:https://idahoarea18aa.org/event/south-central-idaho-hi-awareness-picnic/
LOCATION:Mary L. Gooding Park\, 512 N Rail St W\, Shoshone\, 83352\, 83352\, United States
END:VEVENT
BEGIN:VEVENT
DTSTART;TZID=America/Boise:20250817T100000
DTEND;TZID=America/Boise:20250817T170000
DTSTAMP:20260423T033209
CREATED:20250622T160446Z
LAST-MODIFIED:20250622T160446Z
UID:17914-1755424800-1755450000@idahoarea18aa.org
SUMMARY:Area 18 ACM
DESCRIPTION:
URL:https://idahoarea18aa.org/event/area-18-acm-2/
LOCATION:Town Place Suites by Marriott Twin Falls\, 175 AVENIDA DEL RIO\, Twin Falls\, ID\, 83301\, United States
END:VEVENT
BEGIN:VEVENT
DTSTART;TZID=America/Boise:20250823T120000
DTEND;TZID=America/Boise:20250823T160000
DTSTAMP:20260423T033209
CREATED:20250324T155248Z
LAST-MODIFIED:20250716T181502Z
UID:17744-1755950400-1755964800@idahoarea18aa.org
SUMMARY:Unity Day Hosted by District 5\,  8 & 4
DESCRIPTION:
URL:https://idahoarea18aa.org/event/unity-day-save-the-date/
LOCATION:Julius M. Kleiner Memorial Park\, 1900 N. Records Avenue\, Meridian\, ID\, United States
END:VEVENT
END:VCALENDAR