BEGIN:VCALENDAR
VERSION:2.0
PRODID:-// - ECPv6.15.20//NONSGML v1.0//EN
CALSCALE:GREGORIAN
METHOD:PUBLISH
X-ORIGINAL-URL:https://idahoarea18aa.org
X-WR-CALDESC:Events for 
REFRESH-INTERVAL;VALUE=DURATION:PT1H
X-Robots-Tag:noindex
X-PUBLISHED-TTL:PT1H
BEGIN:VTIMEZONE
TZID:America/Boise
BEGIN:DAYLIGHT
TZOFFSETFROM:-0700
TZOFFSETTO:-0600
TZNAME:MDT
DTSTART:20240310T090000
END:DAYLIGHT
BEGIN:STANDARD
TZOFFSETFROM:-0600
TZOFFSETTO:-0700
TZNAME:MST
DTSTART:20241103T080000
END:STANDARD
BEGIN:DAYLIGHT
TZOFFSETFROM:-0700
TZOFFSETTO:-0600
TZNAME:MDT
DTSTART:20250309T090000
END:DAYLIGHT
BEGIN:STANDARD
TZOFFSETFROM:-0600
TZOFFSETTO:-0700
TZNAME:MST
DTSTART:20251102T080000
END:STANDARD
BEGIN:DAYLIGHT
TZOFFSETFROM:-0700
TZOFFSETTO:-0600
TZNAME:MDT
DTSTART:20260308T090000
END:DAYLIGHT
BEGIN:STANDARD
TZOFFSETFROM:-0600
TZOFFSETTO:-0700
TZNAME:MST
DTSTART:20261101T080000
END:STANDARD
END:VTIMEZONE
BEGIN:VEVENT
DTSTART;TZID=America/Boise:20250621T130000
DTEND;TZID=America/Boise:20250621T160000
DTSTAMP:20260423T040154
CREATED:20250602T164511Z
LAST-MODIFIED:20250602T164511Z
UID:17877-1750510800-1750521600@idahoarea18aa.org
SUMMARY:District 4 CPC/PI Luncheon
DESCRIPTION:
URL:https://idahoarea18aa.org/event/district-4-cpc-pi-luncheon/
LOCATION:New Creations Church\, 3 W Concord St\, Middleton\, ID\, 83644\, United States
END:VEVENT
BEGIN:VEVENT
DTSTART;TZID=America/Boise:20250620T080000
DTEND;TZID=America/Boise:20250622T170000
DTSTAMP:20260423T040154
CREATED:20250324T141515Z
LAST-MODIFIED:20250324T142029Z
UID:17740-1750406400-1750611600@idahoarea18aa.org
SUMMARY:District 7 Green Canyon Campout
DESCRIPTION:
URL:https://idahoarea18aa.org/event/district-7-green-canyon-campout/
LOCATION:Green Canyon Hot Springs\, 2432 N. Canyon Creek Road\, Newdale\, ID\, 83436\, United States
END:VEVENT
BEGIN:VEVENT
DTSTART;TZID=America/Boise:20250618T080000
DTEND;TZID=America/Boise:20250622T170000
DTSTAMP:20260423T040154
CREATED:20250212T221139Z
LAST-MODIFIED:20250327T161144Z
UID:16970-1750233600-1750611600@idahoarea18aa.org
SUMMARY:13th Annual Macks Creek Campout
DESCRIPTION:
URL:https://idahoarea18aa.org/event/13th-annual-macks-creek-campout-2/
LOCATION:ID
END:VEVENT
BEGIN:VEVENT
DTSTART;TZID=America/Boise:20250614T180000
DTEND;TZID=America/Boise:20250614T200000
DTSTAMP:20260423T040154
CREATED:20250522T165820Z
LAST-MODIFIED:20250522T165820Z
UID:17868-1749924000-1749931200@idahoarea18aa.org
SUMMARY:Area 18\, District 4 Birthday Dinner
DESCRIPTION:
URL:https://idahoarea18aa.org/event/area-18-district-4-birthday-dinner/
LOCATION:First Christian Church – Nampa\, 619 12th Avenue\, South\, Nampa\, ID\, 83651\, United States
END:VEVENT
BEGIN:VEVENT
DTSTART;TZID=America/Boise:20250607T103000
DTEND;TZID=America/Boise:20250607T130000
DTSTAMP:20260423T040154
CREATED:20250318T184938Z
LAST-MODIFIED:20250318T184938Z
UID:17714-1749292200-1749301200@idahoarea18aa.org
SUMMARY:TV TAC Summer Picnic and Cookoff
DESCRIPTION:
URL:https://idahoarea18aa.org/event/tv-tac-summer-picnic-and-cookoff/
LOCATION:Veterans Park\, 930 Veterans Memorial Pkwy\, Boise\, Idaho\, 83703\, United States
END:VEVENT
BEGIN:VEVENT
DTSTART;TZID=America/Boise:20250531T100000
DTEND;TZID=America/Boise:20250531T140000
DTSTAMP:20260423T040154
CREATED:20250522T170855Z
LAST-MODIFIED:20250522T170855Z
UID:17872-1748685600-1748700000@idahoarea18aa.org
SUMMARY:Founders Day Picnic
DESCRIPTION:
URL:https://idahoarea18aa.org/event/founders-day-picnic/
LOCATION:Tautphaus Park\, Idaho Falls\, ID 83402\, Idaho Falls\, Idaho\, 83402\, United States
END:VEVENT
BEGIN:VEVENT
DTSTART;TZID=America/Boise:20250524T130000
DTEND;TZID=America/Boise:20250524T160000
DTSTAMP:20260423T040154
CREATED:20250425T192510Z
LAST-MODIFIED:20250425T192731Z
UID:17825-1748091600-1748102400@idahoarea18aa.org
SUMMARY:Bacypaa’s 2nd Memorial Day Picnic
DESCRIPTION:
URL:https://idahoarea18aa.org/event/memorial-day-bbq-2/
LOCATION:Elm Grove Park\, 2200 W Irene St\, Boise\, ID\, 83702\, United States
END:VEVENT
BEGIN:VEVENT
DTSTART;TZID=America/Boise:20250517T120000
DTEND;TZID=America/Boise:20250517T140000
DTSTAMP:20260423T040154
CREATED:20250504T170121Z
LAST-MODIFIED:20250505T164423Z
UID:17838-1747483200-1747490400@idahoarea18aa.org
SUMMARY:Spring Workshop hosted by District 6 & H&I
DESCRIPTION:
URL:https://idahoarea18aa.org/event/spring-workshop-2/
LOCATION:Center for Hope\, 530 E. Anderson Road\, Idaho Falls\, ID\, 83401\, United States
END:VEVENT
BEGIN:VEVENT
DTSTART;VALUE=DATE:20250509
DTEND;VALUE=DATE:20250512
DTSTAMP:20260423T040154
CREATED:20241005T154718Z
LAST-MODIFIED:20250418T222551Z
UID:16747-1746748800-1747007999@idahoarea18aa.org
SUMMARY:2025 Spring Assembly/Convention
DESCRIPTION:Click to Download or Print Agenda
URL:https://idahoarea18aa.org/event/https-idahoarea18aa-org-wp-content-uploads-2025-04-trifold-spring-assembly-and-convention-pdf-2/
LOCATION:Red Lion Pocatello\, 1555 Pocatello Creek Road\, Pocatello\, ID\, 83201\, United States
END:VEVENT
BEGIN:VEVENT
DTSTART;TZID=America/Boise:20250504T120000
DTEND;TZID=America/Boise:20250504T130000
DTSTAMP:20260423T040154
CREATED:20250321T001343Z
LAST-MODIFIED:20250321T001343Z
UID:17734-1746360000-1746363600@idahoarea18aa.org
SUMMARY:Idaho Area 18 Budget and Finance Hour
DESCRIPTION:Zoom Information: \nMeeting ID:  399 670 3331\, Passcode:  290349
URL:https://idahoarea18aa.org/event/idaho-area-18-budget-and-finance-hour-3/
LOCATION:ID
END:VEVENT
BEGIN:VEVENT
DTSTART;TZID=America/Boise:20250424T183000
DTEND;TZID=America/Boise:20250424T203000
DTSTAMP:20260423T040154
CREATED:20250403T163857Z
LAST-MODIFIED:20250403T163857Z
UID:17790-1745519400-1745526600@idahoarea18aa.org
SUMMARY:Rule 62 Speaker & Potluck
DESCRIPTION:
URL:https://idahoarea18aa.org/event/rule-62-speaker-potluck/
LOCATION:New Creations Church\, 3 W Concord St\, Middleton\, ID\, 83644\, United States
END:VEVENT
END:VCALENDAR