BEGIN:VCALENDAR
VERSION:2.0
PRODID:-// - ECPv6.15.20//NONSGML v1.0//EN
CALSCALE:GREGORIAN
METHOD:PUBLISH
X-ORIGINAL-URL:https://idahoarea18aa.org
X-WR-CALDESC:Events for 
REFRESH-INTERVAL;VALUE=DURATION:PT1H
X-Robots-Tag:noindex
X-PUBLISHED-TTL:PT1H
BEGIN:VTIMEZONE
TZID:America/Boise
BEGIN:DAYLIGHT
TZOFFSETFROM:-0700
TZOFFSETTO:-0600
TZNAME:MDT
DTSTART:20250309T090000
END:DAYLIGHT
BEGIN:STANDARD
TZOFFSETFROM:-0600
TZOFFSETTO:-0700
TZNAME:MST
DTSTART:20251102T080000
END:STANDARD
BEGIN:DAYLIGHT
TZOFFSETFROM:-0700
TZOFFSETTO:-0600
TZNAME:MDT
DTSTART:20260308T090000
END:DAYLIGHT
BEGIN:STANDARD
TZOFFSETFROM:-0600
TZOFFSETTO:-0700
TZNAME:MST
DTSTART:20261101T080000
END:STANDARD
BEGIN:DAYLIGHT
TZOFFSETFROM:-0700
TZOFFSETTO:-0600
TZNAME:MDT
DTSTART:20270314T090000
END:DAYLIGHT
BEGIN:STANDARD
TZOFFSETFROM:-0600
TZOFFSETTO:-0700
TZNAME:MST
DTSTART:20271107T080000
END:STANDARD
BEGIN:DAYLIGHT
TZOFFSETFROM:-0700
TZOFFSETTO:-0600
TZNAME:MDT
DTSTART:20280312T090000
END:DAYLIGHT
BEGIN:STANDARD
TZOFFSETFROM:-0600
TZOFFSETTO:-0700
TZNAME:MST
DTSTART:20281105T080000
END:STANDARD
BEGIN:DAYLIGHT
TZOFFSETFROM:-0700
TZOFFSETTO:-0600
TZNAME:MDT
DTSTART:20290311T090000
END:DAYLIGHT
BEGIN:STANDARD
TZOFFSETFROM:-0600
TZOFFSETTO:-0700
TZNAME:MST
DTSTART:20291104T080000
END:STANDARD
END:VTIMEZONE
BEGIN:VEVENT
DTSTART;TZID=America/Boise:20260425T093000
DTEND;TZID=America/Boise:20260425T133000
DTSTAMP:20260422T154855
CREATED:20260125T221043Z
LAST-MODIFIED:20260129T191555Z
UID:18448-1777109400-1777123800@idahoarea18aa.org
SUMMARY:10th Annual Women’s AA Brunch
DESCRIPTION:10th-Brunch-Save-the-date
URL:https://idahoarea18aa.org/event/10th-annual-womens-aa-brunch/
LOCATION:Boise Hilton Garden Inn\, 7699 West Spectrum St.\, BOise\, ID\, 83709\, United States
END:VEVENT
BEGIN:VEVENT
DTSTART;TZID=America/Boise:20260502T170000
DTEND;TZID=America/Boise:20260502T190000
DTSTAMP:20260422T154855
CREATED:20260402T174207Z
LAST-MODIFIED:20260402T174207Z
UID:18796-1777741200-1777748400@idahoarea18aa.org
SUMMARY:Dinner and a Speaker
DESCRIPTION:
URL:https://idahoarea18aa.org/event/dinner-and-a-speaker-4/
LOCATION:Caldwell Church of Christ\, 4012 S. 10th Ave\, Caldwell\, ID\, 83605\, United States
END:VEVENT
BEGIN:VEVENT
DTSTART;TZID=America/Boise:20260508T080000
DTEND;TZID=America/Boise:20260510T170000
DTSTAMP:20260422T154855
CREATED:20250317T134928Z
LAST-MODIFIED:20260422T180031Z
UID:17708-1778227200-1778432400@idahoarea18aa.org
SUMMARY:Idaho Area 18 Spring Assembly and Convention 2026
DESCRIPTION:2026 Spring Convention Program \nhttps://idahoarea18aa.org/wp-content/uploads/2026/04/007-2026-Spring-AssemblyConvention-Program-FINAL.pdf
URL:https://idahoarea18aa.org/event/https-idahoarea18aa-org-wp-content-uploads-2025-04-trifold-spring-assembly-and-convention-pdf/
LOCATION:The Riverside Hotel\, 2900 W Chinden Blvd\, Garden City\, Idaho\, 83714\, United States
END:VEVENT
BEGIN:VEVENT
DTSTART;VALUE=DATE:20260515
DTEND;VALUE=DATE:20260518
DTSTAMP:20260422T154855
CREATED:20260224T214724Z
LAST-MODIFIED:20260224T214724Z
UID:18705-1778803200-1779062399@idahoarea18aa.org
SUMMARY:District 4 Duck Valley Campout
DESCRIPTION:
URL:https://idahoarea18aa.org/event/district-4-duck-valley-campout/
LOCATION:Duck Valley Indian Reservation\, Mountian View Campground\, Owyhee\, NV\, 89832
END:VEVENT
BEGIN:VEVENT
DTSTART;TZID=America/Boise:20260613T180000
DTEND;TZID=America/Boise:20260613T200000
DTSTAMP:20260422T154855
CREATED:20260413T193019Z
LAST-MODIFIED:20260413T193019Z
UID:18817-1781373600-1781380800@idahoarea18aa.org
SUMMARY:District 4 AA Milestone Birthday Dinner
DESCRIPTION:
URL:https://idahoarea18aa.org/event/district-4-aa-milestone-birthday-dinner/
LOCATION:First Christian Church – Nampa\, 619 12th Avenue\, South\, Nampa\, ID\, 83651\, United States
END:VEVENT
BEGIN:VEVENT
DTSTART;VALUE=DATE:20260619
DTEND;VALUE=DATE:20260622
DTSTAMP:20260422T154855
CREATED:20260324T192000Z
LAST-MODIFIED:20260324T194624Z
UID:18773-1781827200-1782086399@idahoarea18aa.org
SUMMARY:District 7 Green Canyon Hot Springs Campout
DESCRIPTION:
URL:https://idahoarea18aa.org/event/district-7-green-canyon-hot-springs-campout/
LOCATION:Green Canyon Hot Springs\, 2432 N. Canyon Creek Road\, Newdale\, ID\, 83436\, United States
END:VEVENT
BEGIN:VEVENT
DTSTART;VALUE=DATE:20260626
DTEND;VALUE=DATE:20260629
DTSTAMP:20260422T154855
CREATED:20251022T161719Z
LAST-MODIFIED:20260422T175544Z
UID:18254-1782432000-1782691199@idahoarea18aa.org
SUMMARY:Pacific Northwest Conference (PNC)
DESCRIPTION:Spanish registration  https://idahoarea18aa.org/wp-content/uploads/2026/02/PNC-2026-Flyer-ESP.pdf \nEnglish registration:  http://www.pnc1948.org \n 
URL:https://idahoarea18aa.org/event/pacific-northwest-conference-pnc/
LOCATION:Heathman Lodge\, 7801 NE Greenwood Drive\, Vancouver\, Washington\, 98662
END:VEVENT
BEGIN:VEVENT
DTSTART;TZID=America/Boise:20260711T110000
DTEND;TZID=America/Boise:20260711T170000
DTSTAMP:20260422T154855
CREATED:20260120T155225Z
LAST-MODIFIED:20260213T161353Z
UID:18413-1783767600-1783789200@idahoarea18aa.org
SUMMARY:Unity Day
DESCRIPTION:
URL:https://idahoarea18aa.org/event/unity-day/
LOCATION:Julius M. Kleiner Memorial Park\, 1900 N. Records Avenue\, Meridian\, ID\, United States
END:VEVENT
BEGIN:VEVENT
DTSTART;VALUE=DATE:20260717
DTEND;VALUE=DATE:20260720
DTSTAMP:20260422T154855
CREATED:20260306T161645Z
LAST-MODIFIED:20260330T205547Z
UID:18727-1784246400-1784505599@idahoarea18aa.org
SUMMARY:Annual District 7 Campout
DESCRIPTION:
URL:https://idahoarea18aa.org/event/annual-district-7-campout/
LOCATION:Cottonwood Recreational Site and Campground\, Hwy 93\, Challis\, ID\, 83226\, United States
END:VEVENT
BEGIN:VEVENT
DTSTART;VALUE=DATE:20260724
DTEND;VALUE=DATE:20260727
DTSTAMP:20260422T154855
CREATED:20260419T172611Z
LAST-MODIFIED:20260419T172611Z
UID:18826-1784851200-1785110399@idahoarea18aa.org
SUMMARY:XXX Anniversary of La Vina by the Pacific Region
DESCRIPTION:
URL:https://idahoarea18aa.org/event/xxx-anniversary-of-la-vina-by-the-pacific-region/
LOCATION:La Quinta Inn & Suites Tacoma-Seattle\, 1425 East 27th Street\, Tacoma\, WA\, 98421\, United States
END:VEVENT
BEGIN:VEVENT
DTSTART;TZID=America/Boise:20260814T080000
DTEND;TZID=America/Boise:20260816T170000
DTSTAMP:20260422T154855
CREATED:20260124T152758Z
LAST-MODIFIED:20260416T151931Z
UID:18425-1786694400-1786899600@idahoarea18aa.org
SUMMARY:Gem State Round Up
DESCRIPTION:Our 2026 GSRU Webpage and registration is LIVE!    https://gemstateroundup.com/
URL:https://idahoarea18aa.org/event/gem-state-round-up/
LOCATION:Courtyard by Marriott\, 1789 S. Eagle Road\, Meridian\, ID\, 83642\, United States
END:VEVENT
BEGIN:VEVENT
DTSTART;VALUE=DATE:20261204
DTEND;VALUE=DATE:20261207
DTSTAMP:20260422T154855
CREATED:20251022T213414Z
LAST-MODIFIED:20251022T213414Z
UID:18274-1796342400-1796601599@idahoarea18aa.org
SUMMARY:Pacific Regional Forum
DESCRIPTION:https://www.aa.org/regional-local-and-special-forums
URL:https://idahoarea18aa.org/event/pacific-regional-forum/
LOCATION:Wyndham San Diego Bayside\, 1355 N Harbor Dr\, San Diego\, CA\, 92101
END:VEVENT
BEGIN:VEVENT
DTSTART;TZID=America/Boise:20270424T150000
DTEND;TZID=America/Boise:20270424T160000
DTSTAMP:20260422T154855
CREATED:20250907T180003Z
LAST-MODIFIED:20250921T012734Z
UID:18165-1808578800-1808582400@idahoarea18aa.org
SUMMARY:2027 Spring Assembly & Convention Planning Committee
DESCRIPTION:Planning Meeting the second Saturday of every month
URL:https://idahoarea18aa.org/event/2027-spring-assembly-convention-planning-committee/
LOCATION:First Christian Church – Nampa\, 619 12th Avenue\, South\, Nampa\, ID\, 83651\, United States
END:VEVENT
BEGIN:VEVENT
DTSTART;VALUE=DATE:20280309
DTEND;VALUE=DATE:20280313
DTSTAMP:20260422T154855
CREATED:20260114T174051Z
LAST-MODIFIED:20260114T174051Z
UID:18390-1836172800-1836518399@idahoarea18aa.org
SUMMARY:PRASSA 2028
DESCRIPTION:
URL:https://idahoarea18aa.org/event/prassa-2028/
LOCATION:Boise Center\, 850 W Front St\, Boise\, ID\, 83702
END:VEVENT
END:VCALENDAR