BEGIN:VCALENDAR
VERSION:2.0
PRODID:-// - ECPv6.15.20//NONSGML v1.0//EN
CALSCALE:GREGORIAN
METHOD:PUBLISH
X-ORIGINAL-URL:https://idahoarea18aa.org
X-WR-CALDESC:Events for 
REFRESH-INTERVAL;VALUE=DURATION:PT1H
X-Robots-Tag:noindex
X-PUBLISHED-TTL:PT1H
BEGIN:VTIMEZONE
TZID:America/Boise
BEGIN:DAYLIGHT
TZOFFSETFROM:-0700
TZOFFSETTO:-0600
TZNAME:MDT
DTSTART:20240310T090000
END:DAYLIGHT
BEGIN:STANDARD
TZOFFSETFROM:-0600
TZOFFSETTO:-0700
TZNAME:MST
DTSTART:20241103T080000
END:STANDARD
BEGIN:DAYLIGHT
TZOFFSETFROM:-0700
TZOFFSETTO:-0600
TZNAME:MDT
DTSTART:20250309T090000
END:DAYLIGHT
BEGIN:STANDARD
TZOFFSETFROM:-0600
TZOFFSETTO:-0700
TZNAME:MST
DTSTART:20251102T080000
END:STANDARD
BEGIN:DAYLIGHT
TZOFFSETFROM:-0700
TZOFFSETTO:-0600
TZNAME:MDT
DTSTART:20260308T090000
END:DAYLIGHT
BEGIN:STANDARD
TZOFFSETFROM:-0600
TZOFFSETTO:-0700
TZNAME:MST
DTSTART:20261101T080000
END:STANDARD
BEGIN:DAYLIGHT
TZOFFSETFROM:-0700
TZOFFSETTO:-0600
TZNAME:MDT
DTSTART:20270314T090000
END:DAYLIGHT
BEGIN:STANDARD
TZOFFSETFROM:-0600
TZOFFSETTO:-0700
TZNAME:MST
DTSTART:20271107T080000
END:STANDARD
END:VTIMEZONE
BEGIN:VEVENT
DTSTART;TZID=America/Boise:20251231T180000
DTEND;TZID=America/Boise:20251231T220000
DTSTAMP:20260423T000605
CREATED:20250819T203407Z
LAST-MODIFIED:20250819T203407Z
UID:18091-1767204000-1767218400@idahoarea18aa.org
SUMMARY:Midtown's 3rd Annual New Year's Eve Party
DESCRIPTION:
URL:https://idahoarea18aa.org/event/midtowns-3rd-annual-new-years-eve-party/
LOCATION:River Valley Church\, 1115 N Garden St\, Boise\, ID\, 83706\, United States
END:VEVENT
BEGIN:VEVENT
DTSTART;TZID=America/Boise:20260103T120000
DTEND;TZID=America/Boise:20260103T140000
DTSTAMP:20260423T000605
CREATED:20251201T191606Z
LAST-MODIFIED:20251201T191717Z
UID:18318-1767441600-1767448800@idahoarea18aa.org
SUMMARY:Back to Basics
DESCRIPTION:
URL:https://idahoarea18aa.org/event/back-to-basics/
LOCATION:Center for Hope\, 530 E. Anderson Road\, Idaho Falls\, ID\, 83401\, United States
END:VEVENT
BEGIN:VEVENT
DTSTART;VALUE=DATE:20260117
DTEND;VALUE=DATE:20260118
DTSTAMP:20260423T000605
CREATED:20251022T195931Z
LAST-MODIFIED:20251022T200458Z
UID:18265-1768608000-1768694399@idahoarea18aa.org
SUMMARY:Special Forum for Deaf Alcoholics Anonymous Members
DESCRIPTION:Zoom Only ( Address TBD )
URL:https://idahoarea18aa.org/event/special-forum-for-deaf-aas/
LOCATION:WA
END:VEVENT
BEGIN:VEVENT
DTSTART;TZID=America/Boise:20260118T150000
DTEND;TZID=America/Boise:20260118T170000
DTSTAMP:20260423T000605
CREATED:20260111T015730Z
LAST-MODIFIED:20260111T015730Z
UID:18384-1768748400-1768755600@idahoarea18aa.org
SUMMARY:GSR Orientation
DESCRIPTION:https://us02web.zoom.us/j/85815391227?pwd=cort6TKBbzkIzmO90xahJe02hBbSUj.1
URL:https://idahoarea18aa.org/event/gsr-orientation/
LOCATION:WA
END:VEVENT
BEGIN:VEVENT
DTSTART;TZID=America/Boise:20260202T183000
DTEND;TZID=America/Boise:20260202T193000
DTSTAMP:20260423T000605
CREATED:20260129T203025Z
LAST-MODIFIED:20260129T203025Z
UID:18473-1770057000-1770060600@idahoarea18aa.org
SUMMARY:PI & CPC Workbook Study
DESCRIPTION:Zoom information: \nMeeting ID:  830 3412 2370\nPasscode:  PSAsRule
URL:https://idahoarea18aa.org/event/pi-cpc-workbook-study-2/
LOCATION:WA
ORGANIZER;CN="Andrew R":MAILTO:CPCPIWest@idahoarea18aa.org
END:VEVENT
BEGIN:VEVENT
DTSTART;TZID=America/Boise:20260207T100000
DTEND;TZID=America/Boise:20260207T110000
DTSTAMP:20260423T000605
CREATED:20260111T014159Z
LAST-MODIFIED:20260116T134526Z
UID:18378-1770458400-1770462000@idahoarea18aa.org
SUMMARY:Pre-Conference Bootcamp
DESCRIPTION:https://us02web.zoom.us/j/86289878108?pwd=Jt2DTmOahfnWV3peyR05KfkzMgtf5X.1\nMeeting ID: 862 8987 8108\nPasscode: 438524\, ID 83340\nUnited States
URL:https://idahoarea18aa.org/event/pre-conference-workshop/
LOCATION:WA
END:VEVENT
BEGIN:VEVENT
DTSTART;TZID=America/Boise:20260207T170000
DTEND;TZID=America/Boise:20260207T190000
DTSTAMP:20260423T000605
CREATED:20260105T171538Z
LAST-MODIFIED:20260105T171538Z
UID:18369-1770483600-1770490800@idahoarea18aa.org
SUMMARY:Dinner and a Speaker
DESCRIPTION:
URL:https://idahoarea18aa.org/event/dinner-and-a-speaker/
LOCATION:Caldwell Church of Christ\, 4012 S. 10th Ave\, Caldwell\, ID\, 83605\, United States
END:VEVENT
BEGIN:VEVENT
DTSTART;TZID=America/Boise:20260211T190000
DTEND;TZID=America/Boise:20260211T200000
DTSTAMP:20260423T000605
CREATED:20260111T015228Z
LAST-MODIFIED:20260111T015228Z
UID:18381-1770836400-1770840000@idahoarea18aa.org
SUMMARY:Pre-Conference Bootcamp
DESCRIPTION: \nhttps://us02web.zoom.us/j/86289878108?pwd=Jt2DTmOahfnWV3peyR05KfkzMgtf5X.1\nMeeting ID: 862 8987 8108\nPasscode: 438524\, ID 83340
URL:https://idahoarea18aa.org/event/pre-conference-bootcamp/
LOCATION:WA
END:VEVENT
BEGIN:VEVENT
DTSTART;TZID=America/Boise:20260214T093000
DTEND;TZID=America/Boise:20260214T140000
DTSTAMP:20260423T000605
CREATED:20260125T214814Z
LAST-MODIFIED:20260125T214814Z
UID:18442-1771061400-1771077600@idahoarea18aa.org
SUMMARY:District 8 When Chocolate Doesn't Work Anymore Workshop
DESCRIPTION:Dist 8 Chocolate Flyer 26
URL:https://idahoarea18aa.org/event/district-8-when-chocolate-doesnt-work-anymore-workshop/
LOCATION:First Presbyterian Church Boise\, 950 W State Street\, Boise\, ID\, 83702
END:VEVENT
BEGIN:VEVENT
DTSTART;TZID=America/Boise:20260214T180000
DTEND;TZID=America/Boise:20260214T200000
DTSTAMP:20260423T000605
CREATED:20260116T214056Z
LAST-MODIFIED:20260116T214056Z
UID:18397-1771092000-1771099200@idahoarea18aa.org
SUMMARY:District 4 Milestone Birthday Dinner
DESCRIPTION:
URL:https://idahoarea18aa.org/event/district-4-milestone-birthday-dinner/
LOCATION:First Christian Church – Nampa\, 619 12th Avenue\, South\, Nampa\, ID\, 83651\, United States
END:VEVENT
BEGIN:VEVENT
DTSTART;TZID=America/Boise:20260221T100000
DTEND;TZID=America/Boise:20260221T110000
DTSTAMP:20260423T000605
CREATED:20260218T175850Z
LAST-MODIFIED:20260218T180631Z
UID:18654-1771668000-1771671600@idahoarea18aa.org
SUMMARY:Zoom 101 Training Presented by Area 18 Tech Team
DESCRIPTION:Meeting ID:  897 8387 0846\nPasscode:  734752 \nEmail tech@idahoarea18aa.org with any questions \n 
URL:https://idahoarea18aa.org/event/zoom-101-training-presented-by-area-18-tech-team/
LOCATION:WA
END:VEVENT
BEGIN:VEVENT
DTSTART;VALUE=DATE:20260227
DTEND;VALUE=DATE:20260302
DTSTAMP:20260423T000605
CREATED:20251022T212808Z
LAST-MODIFIED:20251022T212808Z
UID:18271-1772150400-1772409599@idahoarea18aa.org
SUMMARY:Pacific Region Alcoholics Anonymous Service Assembly (PRASSA)
DESCRIPTION:https://praasa.org/
URL:https://idahoarea18aa.org/event/pacific-region-alcoholics-anonymous-service-assembly-prassa/
LOCATION:Hilton Hawaiian Village Waikiki Beach Resort\, 2005 Kalia Rd\, Honolulu\, HI\, 96815
END:VEVENT
BEGIN:VEVENT
DTSTART;VALUE=DATE:20260228
DTEND;VALUE=DATE:20260301
DTSTAMP:20260423T000605
CREATED:20260212T180058Z
LAST-MODIFIED:20260212T180058Z
UID:18568-1772236800-1772323199@idahoarea18aa.org
SUMMARY:Women's Recovery Daycation
DESCRIPTION:
URL:https://idahoarea18aa.org/event/womens-recovery-daycation/
LOCATION:Miracle Hot Springs\, 19073 US-30\, Buhl\, ID\, 84416
END:VEVENT
BEGIN:VEVENT
DTSTART;TZID=America/Boise:20260307T110000
DTEND;TZID=America/Boise:20260307T150000
DTSTAMP:20260423T000605
CREATED:20260226T172321Z
LAST-MODIFIED:20260226T172529Z
UID:18715-1772881200-1772895600@idahoarea18aa.org
SUMMARY:In Honor of St. Patrick's Day
DESCRIPTION:
URL:https://idahoarea18aa.org/event/in-honor-of-st-patricks-day/
LOCATION:TVICO\, 1111 S Orchard St\, Boise\, ID\, 83705
END:VEVENT
BEGIN:VEVENT
DTSTART;TZID=America/Boise:20260307T170000
DTEND;TZID=America/Boise:20260307T190000
DTSTAMP:20260423T000605
CREATED:20260209T223741Z
LAST-MODIFIED:20260209T223741Z
UID:18556-1772902800-1772910000@idahoarea18aa.org
SUMMARY:Dinner and a Speaker
DESCRIPTION:
URL:https://idahoarea18aa.org/event/dinner-and-a-speaker-2/
LOCATION:Caldwell Church of Christ\, 4012 S. 10th Ave\, Caldwell\, ID\, 83605\, United States
END:VEVENT
BEGIN:VEVENT
DTSTART;TZID=America/Boise:20260308T170000
DTEND;TZID=America/Boise:20260308T183000
DTSTAMP:20260423T000605
CREATED:20260226T175940Z
LAST-MODIFIED:20260226T175940Z
UID:18719-1772989200-1772994600@idahoarea18aa.org
SUMMARY:GSR Orientation
DESCRIPTION:https://us02web.zoom.us/j/83651895235?pwd=JSyodcPqegPGXyaXphBQmoyb0RKKDe.1 \nMeeting ID: 836 5189 5235\nPasscode:  service
URL:https://idahoarea18aa.org/event/gsr-orientation-2/
LOCATION:WA
END:VEVENT
BEGIN:VEVENT
DTSTART;TZID=America/Boise:20260314T110000
DTEND;TZID=America/Boise:20260314T140000
DTSTAMP:20260423T000605
CREATED:20260105T165836Z
LAST-MODIFIED:20260105T165836Z
UID:18365-1773486000-1773496800@idahoarea18aa.org
SUMMARY:Post PRASSA Panel & Potluck
DESCRIPTION:
URL:https://idahoarea18aa.org/event/post-prassa-panel-potluck/
LOCATION:St Stephens Episcopal Church\, 2206 N Cole Rd\, Boise\, ID\, 83704
END:VEVENT
BEGIN:VEVENT
DTSTART;TZID=America/Boise:20260314T143000
DTEND;TZID=America/Boise:20260314T210000
DTSTAMP:20260423T000605
CREATED:20260203T161655Z
LAST-MODIFIED:20260203T161655Z
UID:18478-1773498600-1773522000@idahoarea18aa.org
SUMMARY:A Power Greater Than Google Maps: St. Patrick's Day Scavenger Hunt
DESCRIPTION:
URL:https://idahoarea18aa.org/event/a-power-greater-than-google-maps-st-patricks-day-scavenger-hunt/
LOCATION:Alano Club\, 3820 Cassia St\, Boise\, ID\, 83705\, United States
END:VEVENT
BEGIN:VEVENT
DTSTART;TZID=America/Boise:20260321T100000
DTEND;TZID=America/Boise:20260321T170000
DTSTAMP:20260423T000605
CREATED:20260119T160240Z
LAST-MODIFIED:20260313T160818Z
UID:18403-1774087200-1774112400@idahoarea18aa.org
SUMMARY:Pre-Conference Workshop
DESCRIPTION:https://us06web.zoom.us/j/89325573457?pwd=Gvt5epAMeP8xpwrPkqyyotVa8b9Byn.1  \nMeeting ID: 893 2557 3457\nPasscode: 988909
URL:https://idahoarea18aa.org/event/pre-conference-workshop-3/
LOCATION:Town Place Suites by Marriott Twin Falls\, 175 AVENIDA DEL RIO\, Twin Falls\, ID\, 83301\, United States
END:VEVENT
BEGIN:VEVENT
DTSTART;TZID=America/Boise:20260322T100000
DTEND;TZID=America/Boise:20260322T170000
DTSTAMP:20260423T000605
CREATED:20260119T160342Z
LAST-MODIFIED:20260313T160733Z
UID:18405-1774173600-1774198800@idahoarea18aa.org
SUMMARY:ACM - Area Committee Meeting
DESCRIPTION:https://us06web.zoom.us/j/89325573457?pwd=Gvt5epAMeP8xpwrPkqyyotVa8b9Byn.1 \nZoom login and passcode: \nMeeting ID: 893 2557 3457\nPasscode: 988909\n 
URL:https://idahoarea18aa.org/event/acm-area-committee-meeting/
LOCATION:Town Place Suites by Marriott Twin Falls\, 175 AVENIDA DEL RIO\, Twin Falls\, ID\, 83301\, United States
END:VEVENT
BEGIN:VEVENT
DTSTART;TZID=America/Boise:20260328T100000
DTEND;TZID=America/Boise:20260328T130000
DTSTAMP:20260423T000605
CREATED:20260216T161245Z
LAST-MODIFIED:20260216T161245Z
UID:18645-1774692000-1774702800@idahoarea18aa.org
SUMMARY:HOW OUR VOICES ARE CARRIED
DESCRIPTION:
URL:https://idahoarea18aa.org/event/how-our-voices-are-carried/
LOCATION:New Hope Lutheran Church\, 331 N Linder Rd\, Eagle\, ID\, 83616
END:VEVENT
BEGIN:VEVENT
DTSTART;TZID=America/Boise:20260402T080000
DTEND;TZID=America/Boise:20260405T170000
DTSTAMP:20260423T000605
CREATED:20260124T151445Z
LAST-MODIFIED:20260124T151956Z
UID:18419-1775116800-1775408400@idahoarea18aa.org
SUMMARY:San Diego Round Up
DESCRIPTION:SDSRU2026-Flyer-LowInk
URL:https://idahoarea18aa.org/event/san-diego-round-up/
LOCATION:Town and Country Resort\, 500 Hotel Cir N\, San Diego\, CA\, 92108\, United States
END:VEVENT
BEGIN:VEVENT
DTSTART;TZID=America/Boise:20260404T170000
DTEND;TZID=America/Boise:20260404T190000
DTSTAMP:20260423T000605
CREATED:20260311T170610Z
LAST-MODIFIED:20260311T170610Z
UID:18749-1775322000-1775329200@idahoarea18aa.org
SUMMARY:Dinner and a Speaker
DESCRIPTION:
URL:https://idahoarea18aa.org/event/dinner-and-a-speaker-3/
LOCATION:Caldwell Church of Christ\, 4012 S. 10th Ave\, Caldwell\, ID\, 83605\, United States
END:VEVENT
BEGIN:VEVENT
DTSTART;TZID=America/Boise:20260409T180000
DTEND;TZID=America/Boise:20260409T193000
DTSTAMP:20260423T000605
CREATED:20260216T160053Z
LAST-MODIFIED:20260216T160053Z
UID:18637-1775757600-1775763000@idahoarea18aa.org
SUMMARY:Share with YOUR Delegate (Virtual)
DESCRIPTION:Meeting ID:  860 9081 5157 \nPasscode:  905620
URL:https://idahoarea18aa.org/event/share-with-your-delegate-virtual/
LOCATION:WA
END:VEVENT
BEGIN:VEVENT
DTSTART;TZID=America/Boise:20260411T120000
DTEND;TZID=America/Boise:20260411T140000
DTSTAMP:20260423T000605
CREATED:20260205T164127Z
LAST-MODIFIED:20260205T164127Z
UID:18494-1775908800-1775916000@idahoarea18aa.org
SUMMARY:Peanut Butter Jelly Time Grapevine Workshop Hosted by District 3 & BACYPAA
DESCRIPTION:
URL:https://idahoarea18aa.org/event/peanut-butter-jelly-time-grapevine-workshop-hosted-by-district-3-bacypaa/
LOCATION:Alano Club\, 3820 Cassia St\, Boise\, ID\, 83705\, United States
END:VEVENT
BEGIN:VEVENT
DTSTART;TZID=America/Boise:20260411T180000
DTEND;TZID=America/Boise:20260411T200000
DTSTAMP:20260423T000605
CREATED:20260330T205221Z
LAST-MODIFIED:20260330T205221Z
UID:18790-1775930400-1775937600@idahoarea18aa.org
SUMMARY:District 4 Milestone Birthday Dinner
DESCRIPTION:
URL:https://idahoarea18aa.org/event/district-4-milestone-birthday-dinner-2/
LOCATION:First Christian Church – Nampa\, 619 12th Avenue\, South\, Nampa\, ID\, 83651\, United States
END:VEVENT
BEGIN:VEVENT
DTSTART;TZID=America/Boise:20260412T150000
DTEND;TZID=America/Boise:20260412T170000
DTSTAMP:20260423T000605
CREATED:20260216T160737Z
LAST-MODIFIED:20260216T160737Z
UID:18640-1776006000-1776013200@idahoarea18aa.org
SUMMARY:Share With Your Delegate - Hosted by Districts 2 & 10
DESCRIPTION:
URL:https://idahoarea18aa.org/event/share-with-your-delegate-hosted-by-districts-2-10/
LOCATION:Jerome Public Library\, 100 1st Ave E\, Jerome\, ID\, 83338
END:VEVENT
BEGIN:VEVENT
DTSTART;TZID=America/Boise:20260412T150000
DTEND;TZID=America/Boise:20260412T170000
DTSTAMP:20260423T000605
CREATED:20260316T182429Z
LAST-MODIFIED:20260316T182429Z
UID:18761-1776006000-1776013200@idahoarea18aa.org
SUMMARY:Idaho Bid For WACKYPAA elections
DESCRIPTION:Event Venue to be determined
URL:https://idahoarea18aa.org/event/idaho-bid-for-wackypaa-elections/
LOCATION:WA
END:VEVENT
BEGIN:VEVENT
DTSTART;TZID=America/Boise:20260418T120000
DTEND;TZID=America/Boise:20260418T143000
DTSTAMP:20260423T000605
CREATED:20260216T155351Z
LAST-MODIFIED:20260216T155351Z
UID:18634-1776513600-1776522600@idahoarea18aa.org
SUMMARY:Service Sugar Rush: Meet & Greet with Our Delegate
DESCRIPTION:
URL:https://idahoarea18aa.org/event/service-sugar-rush-meet-greet-with-our-delegate/
LOCATION:Center for Hope\, 530 E. Anderson Road\, Idaho Falls\, ID\, 83401\, United States
END:VEVENT
BEGIN:VEVENT
DTSTART;TZID=America/Boise:20260418T120000
DTEND;TZID=America/Boise:20260418T150000
DTSTAMP:20260423T000605
CREATED:20260302T230203Z
LAST-MODIFIED:20260302T230203Z
UID:18722-1776513600-1776524400@idahoarea18aa.org
SUMMARY:Delegate Pre Conference
DESCRIPTION:
URL:https://idahoarea18aa.org/event/delegate-pre-conference/
LOCATION:Center for Hope\, 530 E. Anderson Road\, Idaho Falls\, ID\, 83401\, United States
END:VEVENT
END:VCALENDAR