BEGIN:VCALENDAR
VERSION:2.0
PRODID:-// - ECPv6.15.20//NONSGML v1.0//EN
CALSCALE:GREGORIAN
METHOD:PUBLISH
X-ORIGINAL-URL:https://idahoarea18aa.org
X-WR-CALDESC:Events for 
REFRESH-INTERVAL;VALUE=DURATION:PT1H
X-Robots-Tag:noindex
X-PUBLISHED-TTL:PT1H
BEGIN:VTIMEZONE
TZID:America/Boise
BEGIN:DAYLIGHT
TZOFFSETFROM:-0700
TZOFFSETTO:-0600
TZNAME:MDT
DTSTART:20250309T090000
END:DAYLIGHT
BEGIN:STANDARD
TZOFFSETFROM:-0600
TZOFFSETTO:-0700
TZNAME:MST
DTSTART:20251102T080000
END:STANDARD
BEGIN:DAYLIGHT
TZOFFSETFROM:-0700
TZOFFSETTO:-0600
TZNAME:MDT
DTSTART:20260308T090000
END:DAYLIGHT
BEGIN:STANDARD
TZOFFSETFROM:-0600
TZOFFSETTO:-0700
TZNAME:MST
DTSTART:20261101T080000
END:STANDARD
BEGIN:DAYLIGHT
TZOFFSETFROM:-0700
TZOFFSETTO:-0600
TZNAME:MDT
DTSTART:20270314T090000
END:DAYLIGHT
BEGIN:STANDARD
TZOFFSETFROM:-0600
TZOFFSETTO:-0700
TZNAME:MST
DTSTART:20271107T080000
END:STANDARD
END:VTIMEZONE
BEGIN:VEVENT
DTSTART;TZID=America/Boise:20260418T120000
DTEND;TZID=America/Boise:20260418T143000
DTSTAMP:20260422T182623
CREATED:20260216T155351Z
LAST-MODIFIED:20260216T155351Z
UID:18634-1776513600-1776522600@idahoarea18aa.org
SUMMARY:Service Sugar Rush: Meet & Greet with Our Delegate
DESCRIPTION:
URL:https://idahoarea18aa.org/event/service-sugar-rush-meet-greet-with-our-delegate/
LOCATION:Center for Hope\, 530 E. Anderson Road\, Idaho Falls\, ID\, 83401\, United States
END:VEVENT
BEGIN:VEVENT
DTSTART;TZID=America/Boise:20260418T120000
DTEND;TZID=America/Boise:20260418T150000
DTSTAMP:20260422T182623
CREATED:20260302T230203Z
LAST-MODIFIED:20260302T230203Z
UID:18722-1776513600-1776524400@idahoarea18aa.org
SUMMARY:Delegate Pre Conference
DESCRIPTION:
URL:https://idahoarea18aa.org/event/delegate-pre-conference/
LOCATION:Center for Hope\, 530 E. Anderson Road\, Idaho Falls\, ID\, 83401\, United States
END:VEVENT
BEGIN:VEVENT
DTSTART;TZID=America/Boise:20260418T120000
DTEND;TZID=America/Boise:20260418T160000
DTSTAMP:20260422T182623
CREATED:20260213T160913Z
LAST-MODIFIED:20260304T221213Z
UID:18573-1776513600-1776528000@idahoarea18aa.org
SUMMARY:Traditions in All Relationships
DESCRIPTION:
URL:https://idahoarea18aa.org/event/traditions-in-relationships/
LOCATION:New Hope Lutheran Church\, 331 N Linder Rd\, Eagle\, ID\, 83616
END:VEVENT
BEGIN:VEVENT
DTSTART;TZID=America/Boise:20260418T180000
DTEND;TZID=America/Boise:20260418T210000
DTSTAMP:20260422T182623
CREATED:20260316T181554Z
LAST-MODIFIED:20260316T181554Z
UID:18758-1776535200-1776546000@idahoarea18aa.org
SUMMARY:Page 417 & Other Things We Pretend to Remember Trivia Night
DESCRIPTION:
URL:https://idahoarea18aa.org/event/page-417-other-things-we-pretend-to-remember-trivia-night/
LOCATION:Alano Club\, 3820 Cassia St\, Boise\, ID\, 83705\, United States
END:VEVENT
BEGIN:VEVENT
DTSTART;TZID=America/Boise:20260418T180000
DTEND;TZID=America/Boise:20260418T210000
DTSTAMP:20260422T182623
CREATED:20260327T143502Z
LAST-MODIFIED:20260327T143502Z
UID:18783-1776535200-1776546000@idahoarea18aa.org
SUMMARY:The Treasure Valley Speaker Meeting
DESCRIPTION:
URL:https://idahoarea18aa.org/event/the-treasure-valley-speaker-meeting/
LOCATION:St Stephens Episcopal Church\, 2206 N Cole Rd\, Boise\, ID\, 83704
END:VEVENT
END:VCALENDAR