BEGIN:VCALENDAR
VERSION:2.0
PRODID:-// - ECPv6.15.20//NONSGML v1.0//EN
CALSCALE:GREGORIAN
METHOD:PUBLISH
X-ORIGINAL-URL:https://idahoarea18aa.org
X-WR-CALDESC:Events for 
REFRESH-INTERVAL;VALUE=DURATION:PT1H
X-Robots-Tag:noindex
X-PUBLISHED-TTL:PT1H
BEGIN:VTIMEZONE
TZID:America/Boise
BEGIN:DAYLIGHT
TZOFFSETFROM:-0700
TZOFFSETTO:-0600
TZNAME:MDT
DTSTART:20250309T090000
END:DAYLIGHT
BEGIN:STANDARD
TZOFFSETFROM:-0600
TZOFFSETTO:-0700
TZNAME:MST
DTSTART:20251102T080000
END:STANDARD
BEGIN:DAYLIGHT
TZOFFSETFROM:-0700
TZOFFSETTO:-0600
TZNAME:MDT
DTSTART:20260308T090000
END:DAYLIGHT
BEGIN:STANDARD
TZOFFSETFROM:-0600
TZOFFSETTO:-0700
TZNAME:MST
DTSTART:20261101T080000
END:STANDARD
BEGIN:DAYLIGHT
TZOFFSETFROM:-0700
TZOFFSETTO:-0600
TZNAME:MDT
DTSTART:20270314T090000
END:DAYLIGHT
BEGIN:STANDARD
TZOFFSETFROM:-0600
TZOFFSETTO:-0700
TZNAME:MST
DTSTART:20271107T080000
END:STANDARD
END:VTIMEZONE
BEGIN:VEVENT
DTSTART;TZID=America/Boise:20260412T150000
DTEND;TZID=America/Boise:20260412T170000
DTSTAMP:20260422T182623
CREATED:20260216T160737Z
LAST-MODIFIED:20260216T160737Z
UID:18640-1776006000-1776013200@idahoarea18aa.org
SUMMARY:Share With Your Delegate - Hosted by Districts 2 & 10
DESCRIPTION:
URL:https://idahoarea18aa.org/event/share-with-your-delegate-hosted-by-districts-2-10/
LOCATION:Jerome Public Library\, 100 1st Ave E\, Jerome\, ID\, 83338
END:VEVENT
BEGIN:VEVENT
DTSTART;TZID=America/Boise:20260412T150000
DTEND;TZID=America/Boise:20260412T170000
DTSTAMP:20260422T182623
CREATED:20260316T182429Z
LAST-MODIFIED:20260316T182429Z
UID:18761-1776006000-1776013200@idahoarea18aa.org
SUMMARY:Idaho Bid For WACKYPAA elections
DESCRIPTION:Event Venue to be determined
URL:https://idahoarea18aa.org/event/idaho-bid-for-wackypaa-elections/
LOCATION:WA
END:VEVENT
END:VCALENDAR