BEGIN:VCALENDAR
VERSION:2.0
PRODID:-// - ECPv6.15.20//NONSGML v1.0//EN
CALSCALE:GREGORIAN
METHOD:PUBLISH
X-ORIGINAL-URL:https://idahoarea18aa.org
X-WR-CALDESC:Events for 
REFRESH-INTERVAL;VALUE=DURATION:PT1H
X-Robots-Tag:noindex
X-PUBLISHED-TTL:PT1H
BEGIN:VTIMEZONE
TZID:America/Boise
BEGIN:DAYLIGHT
TZOFFSETFROM:-0700
TZOFFSETTO:-0600
TZNAME:MDT
DTSTART:20250309T090000
END:DAYLIGHT
BEGIN:STANDARD
TZOFFSETFROM:-0600
TZOFFSETTO:-0700
TZNAME:MST
DTSTART:20251102T080000
END:STANDARD
BEGIN:DAYLIGHT
TZOFFSETFROM:-0700
TZOFFSETTO:-0600
TZNAME:MDT
DTSTART:20260308T090000
END:DAYLIGHT
BEGIN:STANDARD
TZOFFSETFROM:-0600
TZOFFSETTO:-0700
TZNAME:MST
DTSTART:20261101T080000
END:STANDARD
BEGIN:DAYLIGHT
TZOFFSETFROM:-0700
TZOFFSETTO:-0600
TZNAME:MDT
DTSTART:20270314T090000
END:DAYLIGHT
BEGIN:STANDARD
TZOFFSETFROM:-0600
TZOFFSETTO:-0700
TZNAME:MST
DTSTART:20271107T080000
END:STANDARD
END:VTIMEZONE
BEGIN:VEVENT
DTSTART;TZID=America/Boise:20260207T100000
DTEND;TZID=America/Boise:20260207T110000
DTSTAMP:20260422T210437
CREATED:20260111T014159Z
LAST-MODIFIED:20260116T134526Z
UID:18378-1770458400-1770462000@idahoarea18aa.org
SUMMARY:Pre-Conference Bootcamp
DESCRIPTION:https://us02web.zoom.us/j/86289878108?pwd=Jt2DTmOahfnWV3peyR05KfkzMgtf5X.1\nMeeting ID: 862 8987 8108\nPasscode: 438524\, ID 83340\nUnited States
URL:https://idahoarea18aa.org/event/pre-conference-workshop/
LOCATION:WA
END:VEVENT
BEGIN:VEVENT
DTSTART;TZID=America/Boise:20260207T170000
DTEND;TZID=America/Boise:20260207T190000
DTSTAMP:20260422T210437
CREATED:20260105T171538Z
LAST-MODIFIED:20260105T171538Z
UID:18369-1770483600-1770490800@idahoarea18aa.org
SUMMARY:Dinner and a Speaker
DESCRIPTION:
URL:https://idahoarea18aa.org/event/dinner-and-a-speaker/
LOCATION:Caldwell Church of Christ\, 4012 S. 10th Ave\, Caldwell\, ID\, 83605\, United States
END:VEVENT
END:VCALENDAR