BEGIN:VCALENDAR
VERSION:2.0
PRODID:-// - ECPv6.15.20//NONSGML v1.0//EN
CALSCALE:GREGORIAN
METHOD:PUBLISH
X-ORIGINAL-URL:https://idahoarea18aa.org
X-WR-CALDESC:Events for 
REFRESH-INTERVAL;VALUE=DURATION:PT1H
X-Robots-Tag:noindex
X-PUBLISHED-TTL:PT1H
BEGIN:VTIMEZONE
TZID:America/Boise
BEGIN:DAYLIGHT
TZOFFSETFROM:-0700
TZOFFSETTO:-0600
TZNAME:MDT
DTSTART:20240310T090000
END:DAYLIGHT
BEGIN:STANDARD
TZOFFSETFROM:-0600
TZOFFSETTO:-0700
TZNAME:MST
DTSTART:20241103T080000
END:STANDARD
BEGIN:DAYLIGHT
TZOFFSETFROM:-0700
TZOFFSETTO:-0600
TZNAME:MDT
DTSTART:20250309T090000
END:DAYLIGHT
BEGIN:STANDARD
TZOFFSETFROM:-0600
TZOFFSETTO:-0700
TZNAME:MST
DTSTART:20251102T080000
END:STANDARD
BEGIN:DAYLIGHT
TZOFFSETFROM:-0700
TZOFFSETTO:-0600
TZNAME:MDT
DTSTART:20260308T090000
END:DAYLIGHT
BEGIN:STANDARD
TZOFFSETFROM:-0600
TZOFFSETTO:-0700
TZNAME:MST
DTSTART:20261101T080000
END:STANDARD
END:VTIMEZONE
BEGIN:VEVENT
DTSTART;VALUE=DATE:20250807
DTEND;VALUE=DATE:20250811
DTSTAMP:20260423T043648
CREATED:20250514T165354Z
LAST-MODIFIED:20250514T165640Z
UID:17851-1754524800-1754870399@idahoarea18aa.org
SUMMARY:Annual District 10 AA Campout
DESCRIPTION:Loop #2
URL:https://idahoarea18aa.org/event/annual-district-10-aa-campout/
LOCATION:Elks Flats Campground\, Boise National Forest\, Pine\, ID\, 83647\, United States
END:VEVENT
BEGIN:VEVENT
DTSTART;VALUE=DATE:20250808
DTEND;VALUE=DATE:20250811
DTSTAMP:20260423T043648
CREATED:20250804T160640Z
LAST-MODIFIED:20250804T160640Z
UID:18000-1754611200-1754870399@idahoarea18aa.org
SUMMARY:Teton Canyon Campout
DESCRIPTION:
URL:https://idahoarea18aa.org/event/teton-canyon-campout-2/
LOCATION:Reunion Flats Campground in Teton Canyon\, Alta\, WY\, 83455\, United States
END:VEVENT
BEGIN:VEVENT
DTSTART;TZID=America/Boise:20250808T080000
DTEND;TZID=America/Boise:20250810T170000
DTSTAMP:20260423T043648
CREATED:20250330T233357Z
LAST-MODIFIED:20250330T233357Z
UID:17783-1754640000-1754845200@idahoarea18aa.org
SUMMARY:Gem State Roundup 2025
DESCRIPTION:
URL:https://idahoarea18aa.org/event/gem-state-roundup-2025/
LOCATION:Caldwell Elks Lodge\, 1015 N. Kimball Ave\, Caldwell\, ID\, 83605\, United States
END:VEVENT
END:VCALENDAR